BEGIN:VCALENDAR
VERSION:2.0
PRODID:icalendar-ruby
CALSCALE:GREGORIAN
BEGIN:VEVENT
DTSTAMP:20260420T120436Z
UID:0429de26-c812-4adf-94bc-be17fba454fb
DTSTART;VALUE=DATE:20230807
DESCRIPTION:Property ID# 559728\, Time: 1:00PM
SUMMARY:Auction for 
END:VEVENT
END:VCALENDAR
