BEGIN:VCALENDAR
VERSION:2.0
PRODID:icalendar-ruby
CALSCALE:GREGORIAN
BEGIN:VEVENT
DTSTAMP:20260420T121025Z
UID:c66653eb-d057-4c4a-a413-c9d36d72b099
DTSTART;VALUE=DATE:20250402
DESCRIPTION:Property ID# 589354\, Locatoin: Harcourts Paremata at 1pm \, Ti
 me: 1:00PM
SUMMARY:Auction for 
END:VEVENT
END:VCALENDAR
